BEGIN:VCALENDAR
VERSION:2.0
PRODID:-//Prelatura de Yauyos, Cañete y Huarochirí - ECPv6.9.0//NONSGML v1.0//EN
CALSCALE:GREGORIAN
METHOD:PUBLISH
X-ORIGINAL-URL:https://prelaturayauyos.org.pe
X-WR-CALDESC:Eventos para Prelatura de Yauyos, Cañete y Huarochirí
REFRESH-INTERVAL;VALUE=DURATION:PT1H
X-Robots-Tag:noindex
X-PUBLISHED-TTL:PT1H
BEGIN:VTIMEZONE
TZID:America/Lima
BEGIN:STANDARD
TZOFFSETFROM:-0500
TZOFFSETTO:-0500
TZNAME:-05
DTSTART:20240101T000000
END:STANDARD
END:VTIMEZONE
BEGIN:VEVENT
DTSTART;TZID=America/Lima:20240320T110000
DTEND;TZID=America/Lima:20240320T123000
DTSTAMP:20260425T143407
CREATED:20240318T230012Z
LAST-MODIFIED:20240318T230012Z
UID:29682-1710932400-1710937800@prelaturayauyos.org.pe
SUMMARY:Conferencia de Prensa
DESCRIPTION:La Oficina de Comunicación organiza la Conferencia de Prensa para presentar la Marcha por la Vida\, Semana Santa 2024 y la Pasión de Cañete. \nAl evento asistirán autoridades provinciales y agentes de prensa.
URL:https://prelaturayauyos.org.pe/event/conferencia-de-prensa/
LOCATION:Santuario Madre del Amor Hermoso\, Antigua Panamericana Sur Km. 143.5\, San Vicente de Cañete 15701\, San Vicente\, Perú
CATEGORIES:Conferencias
ATTACH;FMTTYPE=image/jpeg:https://prelaturayauyos.org.pe/wp-content/uploads/2022/11/CONFERENCIA-DE-PRENSA-CIELO-ABIERTO.jpg
ORGANIZER;CN="Prelatura de Yauyos":MAILTO:+511 5813546
END:VEVENT
END:VCALENDAR